BEGIN:VCALENDAR
VERSION:2.0
PRODID:-//Sigrids Sang - ECPv6.0.13.1//NONSGML v1.0//EN
CALSCALE:GREGORIAN
METHOD:PUBLISH
X-ORIGINAL-URL:http://www.sigridssang.no
X-WR-CALDESC:Events for Sigrids Sang
REFRESH-INTERVAL;VALUE=DURATION:PT1H
X-Robots-Tag:noindex
X-PUBLISHED-TTL:PT1H
BEGIN:VTIMEZONE
TZID:Europe/Oslo
BEGIN:DAYLIGHT
TZOFFSETFROM:+0100
TZOFFSETTO:+0200
TZNAME:CEST
DTSTART:20230326T010000
END:DAYLIGHT
BEGIN:STANDARD
TZOFFSETFROM:+0200
TZOFFSETTO:+0100
TZNAME:CET
DTSTART:20231029T010000
END:STANDARD
END:VTIMEZONE
BEGIN:VEVENT
DTSTART;TZID=Europe/Oslo:20231127T190000
DTEND;TZID=Europe/Oslo:20231127T213000
DTSTAMP:20260423T172020
CREATED:20231127T180056Z
LAST-MODIFIED:20231121T010215Z
UID:170-1701111600-1701120600@www.sigridssang.no
SUMMARY:Korøvelse med Sortland korforening
DESCRIPTION:Sortland korforening er et blandakor med ca 25 medlemmer\, som øver ukentlig på Sortland. Jeg har vært musikalsk leder siden 2013. Koret tar opp nye medlemmer fortløpende\, og alle er velkommen til å stikke innom på øvelsen. Bildet er fra vårt 50-årsjubileum i 2018.
URL:http://www.sigridssang.no/event/korovelse-2/
LOCATION:Kulturfabrikken\, Strandgata 1\, Sortland\, 8401
CATEGORIES:Korøvelse
ATTACH;FMTTYPE=image/jpeg:http://www.sigridssang.no/wp-content/uploads/2019/10/Jubileumskonsert1.jpg
ORGANIZER;CN="Sortland%20korforening":MAILTO:ehitland@online.no
END:VEVENT
END:VCALENDAR