BEGIN:VCALENDAR
VERSION:2.0
PRODID:-//Sigrids Sang - ECPv6.0.13.1//NONSGML v1.0//EN
CALSCALE:GREGORIAN
METHOD:PUBLISH
X-ORIGINAL-URL:http://www.sigridssang.no
X-WR-CALDESC:Events for Sigrids Sang
REFRESH-INTERVAL;VALUE=DURATION:PT1H
X-Robots-Tag:noindex
X-PUBLISHED-TTL:PT1H
BEGIN:VTIMEZONE
TZID:Europe/Oslo
BEGIN:DAYLIGHT
TZOFFSETFROM:+0100
TZOFFSETTO:+0200
TZNAME:CEST
DTSTART:20230326T010000
END:DAYLIGHT
BEGIN:STANDARD
TZOFFSETFROM:+0200
TZOFFSETTO:+0100
TZNAME:CET
DTSTART:20231029T010000
END:STANDARD
END:VTIMEZONE
BEGIN:VEVENT
DTSTART;TZID=Europe/Oslo:20231209T163000
DTEND;TZID=Europe/Oslo:20231209T180000
DTSTAMP:20260422T060549
CREATED:20231121T005323Z
LAST-MODIFIED:20231121T005323Z
UID:547-1702139400-1702144800@www.sigridssang.no
SUMMARY:Julesang på gården
DESCRIPTION:Kordamen’ på Hennes er damekoret mitt\, og de har inngått i et samarbeid med Kvitnes gård denne gangen. Det blir en unik julekonsert med mat og bakverk fra gården\, sanger og minner fra barndommens jul\, og den helt spesielle stemninga i gulfjøsen på Kvitnes.
URL:http://www.sigridssang.no/event/julesang-pa-garden/
LOCATION:Kvitnes gård\, Kvitnes\, 8413\, Norge
CATEGORIES:Konsert
ATTACH;FMTTYPE=image/jpeg:http://www.sigridssang.no/wp-content/uploads/2019/10/Kordamer.jpg
ORGANIZER;CN="Kordamen%27":MAILTO:bakkeli.1959@live.no
END:VEVENT
END:VCALENDAR