BEGIN:VCALENDAR
VERSION:2.0
PRODID:-//Sigrids Sang - ECPv6.0.13.1//NONSGML v1.0//EN
CALSCALE:GREGORIAN
METHOD:PUBLISH
X-ORIGINAL-URL:http://www.sigridssang.no
X-WR-CALDESC:Events for Sigrids Sang
REFRESH-INTERVAL;VALUE=DURATION:PT1H
X-Robots-Tag:noindex
X-PUBLISHED-TTL:PT1H
BEGIN:VTIMEZONE
TZID:Europe/Oslo
BEGIN:DAYLIGHT
TZOFFSETFROM:+0100
TZOFFSETTO:+0200
TZNAME:CEST
DTSTART:20230326T010000
END:DAYLIGHT
BEGIN:STANDARD
TZOFFSETFROM:+0200
TZOFFSETTO:+0100
TZNAME:CET
DTSTART:20231029T010000
END:STANDARD
END:VTIMEZONE
BEGIN:VEVENT
DTSTART;TZID=Europe/Oslo:20230913T190000
DTEND;TZID=Europe/Oslo:20230917T210000
DTSTAMP:20260421T145016
CREATED:20230919T142337Z
LAST-MODIFIED:20230919T142337Z
UID:519-1694631600-1694984400@www.sigridssang.no
SUMMARY:"Hendelser i nord" - konsertturné
DESCRIPTION:«Hendelser i Nord» er en konsert med fortellende viser fra de nordlige delene av Norge\, Sverige og Finland. Mange av visene har vært solgt som skillingstrykk\, og det er de gode fortellingene vi ønsker å gi et nytt løft. De fortellende visene har til «alle tider» tatt for seg aktuelle hendelser\, og dikterne som har ført disse i pennen har vært viktige nyhetsspredere i sin samtid. Tekster som ble trykt og solgt kalles skillingstrykk\, og under den overskriften finner man viser i en rekke ulike stilretninger.\nProduksjonen hadde premiere 11. august på Kalottspel 2023\, og grunnstammen kommer fra den svenske folkemusikktrioen Triakel\, og deres album «Händelser i Nord» fra 2019. Der tar de for seg fortellinger om mord\, ran\, nød og kjærlighet (gjerne den ulykkelige) fra nord i Sverige. Når de i Sverige synger om tog-ran\, synger man i Nord-Norge om forlis på Ishavet. Kvenske viser synger blant annet om landet de forlot når nøden ble for stor\, og har kanskje mange fellestrekk med andre emigrantviser? \nMedvirkende\nSigrid Randers-Pehrson\, Sortland/Norge – vokal\nNikolai Äystö\, Gällivare/Sverige – vokal (finsk/kvensk)\, klarinett\, perkusjon\nEmma Härdelin\, Hudiksvall/Sverige – vokal\, fele\nKjell-Erik Eriksson\, Östersund/Sverige – fele\nJanne Strömstedt\, Östersund/Sverige – trøorgel \nTriakel er grunnstammen i produksjonen med Emma Härdelin på vokal\, Kjell-Erik Eriksson på fele\, og Janne Strömstedet på trøorgel. De har spilt sammen siden 1995\, har turnert verden rundt\, og gitt ut en rekke album.\nNikolai Äystö Lindholm er en multikunstner bosatt i Gällivare i Nord-Sverige. Med finsk mor behersker han finsk språk\, og synger både på kvensk (norsk/finsk) og på meänkieli (Tornedalfinsk). Nikolai spiller også klarinett og bassklarinett.
URL:http://www.sigridssang.no/event/hendelser-i-nord-konsertturne/
CATEGORIES:Konsert
ATTACH;FMTTYPE=image/jpeg:http://www.sigridssang.no/wp-content/uploads/2023/08/Hendelser-i-nord.jpg
ORGANIZER;CN="Folkemusikk%20Nord":MAILTO:post@scenenord.no
END:VEVENT
END:VCALENDAR