BEGIN:VCALENDAR
VERSION:2.0
PRODID:-//Sigrids Sang - ECPv6.0.13.1//NONSGML v1.0//EN
CALSCALE:GREGORIAN
METHOD:PUBLISH
X-ORIGINAL-URL:http://www.sigridssang.no
X-WR-CALDESC:Events for Sigrids Sang
REFRESH-INTERVAL;VALUE=DURATION:PT1H
X-Robots-Tag:noindex
X-PUBLISHED-TTL:PT1H
BEGIN:VTIMEZONE
TZID:Europe/Oslo
BEGIN:DAYLIGHT
TZOFFSETFROM:+0100
TZOFFSETTO:+0200
TZNAME:CEST
DTSTART:20220327T010000
END:DAYLIGHT
BEGIN:STANDARD
TZOFFSETFROM:+0200
TZOFFSETTO:+0100
TZNAME:CET
DTSTART:20221030T010000
END:STANDARD
END:VTIMEZONE
BEGIN:VEVENT
DTSTART;TZID=Europe/Oslo:20220917T120000
DTEND;TZID=Europe/Oslo:20220917T233000
DTSTAMP:20260422T133612
CREATED:20220907T111731Z
LAST-MODIFIED:20220907T111731Z
UID:495-1663416000-1663457400@www.sigridssang.no
SUMMARY:Dans og spill på Kleiva
DESCRIPTION:Kvedarkrinsen tar det ett hakk opp denne lørdagen! Bli med på først sang\, så dans og spill! Det blir kurs\, konsert og dans; og vi starter med kvedarkrins før vi går videre til nye aktiviteter.
URL:http://www.sigridssang.no/event/dans-og-spill-pa-kleiva/
LOCATION:Kleiva bygdehus\, Risevegen 2\, Sortland\, 8404\, Norge
CATEGORIES:Aktivitetsdag
ATTACH;FMTTYPE=image/jpeg:http://www.sigridssang.no/wp-content/uploads/2022/09/Slåtter-fra-Troms-Plakat-217809.jpg
ORGANIZER;CN="Sigrids%20Sang":MAILTO:sigridrp@hotmail.com
END:VEVENT
END:VCALENDAR